BEGIN:VCALENDAR
METHOD:PUBLISH
VERSION:2.0
PRODID:-//hacksw/handcal//NONSGML v1.0//EN
BEGIN:VEVENT
DTSTAMP:20260502T100000
DTSTART:20260502T100000
DTEND:20260502T100000
SUMMARY:Auction
LOCATION:3/5 Chandos  Street Ashfield NSW 2131
DESCRIPTION:
UID:fba1a176-e79b-4a3a-920e-681abbf4e097@enlivenai.com.au
END:VEVENT
END:VCALENDAR
