BEGIN:VCALENDAR
METHOD:PUBLISH
VERSION:2.0
PRODID:-//hacksw/handcal//NONSGML v1.0//EN
BEGIN:VEVENT
DTSTAMP:20260523T110000
DTSTART:20260523T110000
DTEND:20260523T110000
SUMMARY:Auction
LOCATION:156 Eastbourne Road Rosebud VIC 3939
DESCRIPTION:
UID:85ed7de9-a456-431e-89bf-31f55d5658db@enlivenai.com.au
END:VEVENT
END:VCALENDAR
