BEGIN:VCALENDAR
METHOD:PUBLISH
VERSION:2.0
PRODID:-//hacksw/handcal//NONSGML v1.0//EN
BEGIN:VEVENT
DTSTAMP:20260517T103000
DTSTART:20260517T103000
DTEND:20260517T103000
SUMMARY:Auction
LOCATION:532 Glen Eira Road Caulfield VIC 3162
DESCRIPTION:
UID:ba24ed41-41a9-43f5-a7fd-5c4d6d5f584f@enlivenai.com.au
END:VEVENT
END:VCALENDAR
