BEGIN:VCALENDAR
METHOD:PUBLISH
VERSION:2.0
PRODID:-//hacksw/handcal//NONSGML v1.0//EN
BEGIN:VEVENT
DTSTAMP:20260521T120000
DTSTART:20260521T120000
DTEND:20260521T120000
SUMMARY:Auction
LOCATION:5 Cornelian Road Pearl Beach NSW 2256
DESCRIPTION:
UID:ae9f14ad-75f7-4912-a9aa-567d33e13420@enlivenai.com.au
END:VEVENT
END:VCALENDAR
