BEGIN:VCALENDAR
METHOD:PUBLISH
VERSION:2.0
PRODID:-//hacksw/handcal//NONSGML v1.0//EN
BEGIN:VEVENT
DTSTAMP:20260521T170000
DTSTART:20260521T170000
DTEND:20260521T170000
SUMMARY:Auction
LOCATION:3 The Crescent Queanbeyan NSW 2620
DESCRIPTION:
UID:d4ecdb11-e701-4da9-8e86-e51ca0b66b35@enlivenai.com.au
END:VEVENT
END:VCALENDAR
