BEGIN:VCALENDAR
METHOD:PUBLISH
VERSION:2.0
PRODID:-//hacksw/handcal//NONSGML v1.0//EN
BEGIN:VEVENT
DTSTAMP:20260425T160000
DTSTART:20260425T160000
DTEND:20260425T160000
SUMMARY:Auction
LOCATION:11/13-14 North Esplanade Glenelg North SA 5045
DESCRIPTION:
UID:3deeb2b2-2db7-453d-acfd-905d4115311a@enlivenai.com.au
END:VEVENT
END:VCALENDAR
