BEGIN:VCALENDAR
METHOD:PUBLISH
VERSION:2.0
PRODID:-//hacksw/handcal//NONSGML v1.0//EN
BEGIN:VEVENT
DTSTAMP:20260430T113000
DTSTART:20260430T113000
DTEND:20260430T113000
SUMMARY:Auction
LOCATION:45 Kunama Drive East Jindabyne NSW 2627
DESCRIPTION:
UID:87e8c8c6-67d2-42ea-bb97-b76adc4034ef@enlivenai.com.au
END:VEVENT
END:VCALENDAR
