BEGIN:VCALENDAR
METHOD:PUBLISH
VERSION:2.0
PRODID:-//hacksw/handcal//NONSGML v1.0//EN
BEGIN:VEVENT
DTSTAMP:20260509T160000
DTSTART:20260509T160000
DTEND:20260509T160000
SUMMARY:Auction
LOCATION:13 Kingston Street Haberfield NSW 2045
DESCRIPTION:
UID:4806570c-a50d-48a5-9f4b-a7560fc866fb@enlivenai.com.au
END:VEVENT
END:VCALENDAR
