BEGIN:VCALENDAR
METHOD:PUBLISH
VERSION:2.0
PRODID:-//hacksw/handcal//NONSGML v1.0//EN
BEGIN:VEVENT
DTSTAMP:20260502T133000
DTSTART:20260502T133000
DTEND:20260502T133000
SUMMARY:Auction
LOCATION:9/33 Hamilton Street Rose Bay NSW 2029
DESCRIPTION:
UID:d21e8e8b-8480-424b-9542-2afc08bc0366@enlivenai.com.au
END:VEVENT
END:VCALENDAR
