BEGIN:VCALENDAR
METHOD:PUBLISH
VERSION:2.0
PRODID:-//hacksw/handcal//NONSGML v1.0//EN
BEGIN:VEVENT
DTSTAMP:20260516T113000
DTSTART:20260516T113000
DTEND:20260516T113000
SUMMARY:Auction
LOCATION:2/37 Waverley Road Malvern East VIC 3145
DESCRIPTION:
UID:14d2e4d7-2738-4c4b-bcc8-6d0aece8ebb4@enlivenai.com.au
END:VEVENT
END:VCALENDAR
