BEGIN:VCALENDAR
METHOD:PUBLISH
VERSION:2.0
PRODID:-//hacksw/handcal//NONSGML v1.0//EN
BEGIN:VEVENT
DTSTAMP:20260502T123000
DTSTART:20260502T123000
DTEND:20260502T123000
SUMMARY:Auction
LOCATION:74 Sixth Avenue Rosebud VIC 3939
DESCRIPTION:
UID:8b58d233-5e91-42b7-aa7c-0e1f400cdb03@enlivenai.com.au
END:VEVENT
END:VCALENDAR
