BEGIN:VCALENDAR
METHOD:PUBLISH
VERSION:2.0
PRODID:-//hacksw/handcal//NONSGML v1.0//EN
BEGIN:VEVENT
DTSTAMP:20260523T153000
DTSTART:20260523T153000
DTEND:20260523T153000
SUMMARY:Auction
LOCATION:25/45 Trafalgar Street Annandale NSW 2038
DESCRIPTION:
UID:b6b19d9a-73a5-496a-b3fb-781c3172170b@enlivenai.com.au
END:VEVENT
END:VCALENDAR
