BEGIN:VCALENDAR
METHOD:PUBLISH
VERSION:2.0
PRODID:-//hacksw/handcal//NONSGML v1.0//EN
BEGIN:VEVENT
DTSTAMP:20260430T180000
DTSTART:20260430T180000
DTEND:20260430T180000
SUMMARY:Auction
LOCATION:15 Lancaster Crescent Collaroy NSW 2097
DESCRIPTION:
UID:22e3a292-58ad-437b-ba3f-8c562a4ed245@enlivenai.com.au
END:VEVENT
END:VCALENDAR
